BEGIN:VCALENDAR
VERSION:2.0
PRODID:-//ChamberMaster//Event Calendar 2.0//EN
METHOD:PUBLISH
X-PUBLISHED-TTL:P1H
REFRESH-INTERVAL:P1H
CALSCALE:GREGORIAN
BEGIN:VTIMEZONE
TZID:America/Chicago
BEGIN:DAYLIGHT
RRULE:FREQ=YEARLY;BYMONTH=3;BYDAY=2SU
DTSTART:20070101T000000
TZOFFSETFROM:-0600
TZOFFSETTO:-0500
TZNAME:Central Daylight Time
END:DAYLIGHT
BEGIN:STANDARD
RRULE:FREQ=YEARLY;BYMONTH=11;BYDAY=1SU
DTSTART:20070101T000000
TZOFFSETFROM:-0500
TZOFFSETTO:-0600
TZNAME:Central Standard Time
END:STANDARD
END:VTIMEZONE
BEGIN:VEVENT
DTSTART;TZID=America/Chicago:20261113T083000
DTEND;TZID=America/Chicago:20261113T143000
X-MICROSOFT-CDO-ALLDAYEVENT:FALSE
SUMMARY:2026 8th Grade Reality Check
DESCRIPTION:Preparing Duneland's Middle Schoolers for the Future! Duneland 8th Graders gather at for a learning activity designed to illustrate how performance in school will affect their quality of life as adults.120 business and community leaders are needed to make this event a success\, so please considering registering to be a volunteer! Volunteer Shifts Morning: 8:30 AM - 11:30 AMAll Day: 8:30 AM - 2:30 PM *Lunch Provided* Afternoon: 11:30 AM - 2:30 PM
X-ALT-DESC;FMTTYPE=text/html:<!DOCTYPE html><html><head><title></title></head><body aria-disabled="false"><p>Preparing Duneland&#39\;s Middle Schoolers for the Future!&nbsp\;</p><p>Duneland 8th Graders gather at for a learning activity designed to illustrate how performance in school will affect their quality of life as adults.</p><p><strong fr-original-style="" style="font-weight: 700\;">120 business and community leaders are needed to make this event a success\, so please considering registering to be a volunteer!&nbsp\;</strong></p><p><u>Volunteer Shifts</u>&nbsp\;</p><p>Morning: 8:30 AM - 11:30 AM</p><p>All Day: 8:30 AM - 2:30 PM *Lunch Provided*&nbsp\;</p><p>Afternoon: 11:30 AM - 2:30 PM</p><p><br></p><p><br></p></body></html>
LOCATION:
UID:e.4189.1344842
SEQUENCE:3
DTSTAMP:20260419T162630Z
URL:https://dunelandchamberofcommerce.growthzoneapp.com/event-calendar/Details/2026-8th-grade-reality-check-1580836?sourceTypeId=Hub
END:VEVENT
END:VCALENDAR
