BEGIN:VCALENDAR
VERSION:2.0
PRODID:-//ChamberMaster//Event Calendar 2.0//EN
METHOD:PUBLISH
X-PUBLISHED-TTL:P1H
REFRESH-INTERVAL:P1H
CALSCALE:GREGORIAN
BEGIN:VTIMEZONE
TZID:America/Chicago
BEGIN:DAYLIGHT
RRULE:FREQ=YEARLY;BYMONTH=3;BYDAY=2SU
DTSTART:20070101T000000
TZOFFSETFROM:-0600
TZOFFSETTO:-0500
TZNAME:Central Daylight Time
END:DAYLIGHT
BEGIN:STANDARD
RRULE:FREQ=YEARLY;BYMONTH=11;BYDAY=1SU
DTSTART:20070101T000000
TZOFFSETFROM:-0500
TZOFFSETTO:-0600
TZNAME:Central Standard Time
END:STANDARD
END:VTIMEZONE
BEGIN:VEVENT
DTSTART;TZID=America/Chicago:20260601T083000
DTEND;TZID=America/Chicago:20260601T150000
X-MICROSOFT-CDO-ALLDAYEVENT:FALSE
SUMMARY:2026 Annual Golf Outing
DESCRIPTION:Join the Duneland Chamber for a day on the course. Golfers can enjoy the beautiful Sand Creek Country club at our annual golf scramble! Registration will begin at 8:30 am\, and a shotgun start is at 10:00 am. Golfers get to participate in an eighteen-hole scramble. At 2:30 pm\, guests will enjoy after-play dinner and drinks. Ticket price includes golf\, on-course beer cart\, dinner\, and on-course snacks. Sponsorship opportunities are available\, including four options that offer exclusive sponsorship of event activities. More than 100 Chamber and community member golfers participated in last year's outing. Pre-registration is required. Everyone is welcome!\n\n$200/golfer$800/foursome
X-ALT-DESC;FMTTYPE=text/html:<!DOCTYPE html><html><head><title></title></head><body aria-disabled="false"><p>Join the Duneland Chamber for a day on the course. Golfers can enjoy the beautiful Sand Creek Country club at our annual golf scramble!&nbsp\;</p><p>Registration will begin at 8:30 am\, and a shotgun start is at 10:00 am. Golfers get to participate in an eighteen-hole scramble. At 2:30 pm\, guests will enjoy after-play dinner and drinks.&nbsp\;</p><p>Ticket price includes golf\, on-course beer cart\, dinner\, and on-course snacks. Sponsorship opportunities are available\, including four options that offer exclusive sponsorship of event activities. More than 100 Chamber and community member golfers participated in last year&rsquo\;s outing. Pre-registration is required. Everyone is welcome!<br><br>$200/golfer</p><p>$800/foursome</p></body></html>
LOCATION:1001 Sand Creek Dr. S. Chesterton IN 46304
UID:e.4189.1344125
SEQUENCE:3
DTSTAMP:20260419T162551Z
URL:https://dunelandchamberofcommerce.growthzoneapp.com/event-calendar/Details/2026-annual-golf-outing-1579102?sourceTypeId=Hub
END:VEVENT
END:VCALENDAR
