BEGIN:VCALENDAR
VERSION:2.0
PRODID:-//ChamberMaster//Event Calendar 2.0//EN
METHOD:PUBLISH
X-PUBLISHED-TTL:P1H
REFRESH-INTERVAL:P1H
CALSCALE:GREGORIAN
BEGIN:VTIMEZONE
TZID:America/Chicago
BEGIN:DAYLIGHT
RRULE:FREQ=YEARLY;BYMONTH=3;BYDAY=2SU
DTSTART:20070101T000000
TZOFFSETFROM:-0600
TZOFFSETTO:-0500
TZNAME:Central Daylight Time
END:DAYLIGHT
BEGIN:STANDARD
RRULE:FREQ=YEARLY;BYMONTH=11;BYDAY=1SU
DTSTART:20070101T000000
TZOFFSETFROM:-0500
TZOFFSETTO:-0600
TZNAME:Central Standard Time
END:STANDARD
END:VTIMEZONE
BEGIN:VEVENT
DTSTART;TZID=America/Chicago:20261030T160000
DTEND;TZID=America/Chicago:20261030T180000
X-MICROSOFT-CDO-ALLDAYEVENT:FALSE
SUMMARY:2026 Downtown Trick or Treat
DESCRIPTION:Join us for Downtown Trick or Treat and showcase your business by handing out candy to hundreds of local families. Set up your table or at the Chamber of Commerce or on Broadway don't forget decorations and at least 1\,000 pieces of candy to share. It's a fun way to connect with the community and spread some Halloween cheer!\n*Tents must have at least 20lb weights on all four legs\; tents not meeting this requirement will be taken down.
X-ALT-DESC;FMTTYPE=text/html:<!DOCTYPE html><html><head><title></title></head><body aria-disabled="false"><p>Join us for Downtown Trick or Treat and showcase your business by handing out candy to hundreds of local families. Set up your table or at the Chamber of Commerce or on Broadway&mdash\;don&rsquo\;t forget decorations and at least 1\,000 pieces of candy to share. It&rsquo\;s a fun way to connect with the community and spread some Halloween cheer!</p><p><br></p><p>*<strong fr-original-style="" style="font-weight: 700\;">Tents must have at least</strong> <strong fr-original-style="" style="font-weight: 700\;">20lb weights on</strong> <strong fr-original-style="" style="font-weight: 700\;">all four legs</strong>\; tents not meeting this requirement will be taken down.&nbsp\;</p></body></html>
LOCATION:220 Broadway Chesterton IN 46304-2258
UID:e.4189.1344147
SEQUENCE:3
DTSTAMP:20260419T162918Z
URL:https://dunelandchamberofcommerce.growthzoneapp.com/event-calendar/Details/2026-downtown-trick-or-treat-1579124?sourceTypeId=Hub
END:VEVENT
END:VCALENDAR
