BEGIN:VCALENDAR
VERSION:2.0
PRODID:-//ChamberMaster//Event Calendar 2.0//EN
METHOD:PUBLISH
X-PUBLISHED-TTL:P1H
REFRESH-INTERVAL:P1H
CALSCALE:GREGORIAN
BEGIN:VTIMEZONE
TZID:America/Chicago
BEGIN:DAYLIGHT
RRULE:FREQ=YEARLY;BYMONTH=3;BYDAY=2SU
DTSTART:20070101T000000
TZOFFSETFROM:-0600
TZOFFSETTO:-0500
TZNAME:Central Daylight Time
END:DAYLIGHT
BEGIN:STANDARD
RRULE:FREQ=YEARLY;BYMONTH=11;BYDAY=1SU
DTSTART:20070101T000000
TZOFFSETFROM:-0500
TZOFFSETTO:-0600
TZNAME:Central Standard Time
END:STANDARD
END:VTIMEZONE
BEGIN:VEVENT
DTSTART;TZID=America/Chicago:20260805T113007
DTEND;TZID=America/Chicago:20260805T130000
X-MICROSOFT-CDO-ALLDAYEVENT:FALSE
SUMMARY:2026 New Teachers Reception
DESCRIPTION:All members of the Duneland Chamber of Commerce are invited to attend a luncheon welcoming new teachers to the Duneland School Corporation. You can sponsor a teacher's lunch and your own! You will be seated with your teacher and listed in the luncheon program. You may provide items containing your company logo to be included in the welcome bags which will be given to each teacher. Items must be received in the Chamber Office by August 3. Your presence in welcoming our new teachers to the Duneland School Corporation is vital for a positive first introduction to the Duneland Community. Together we all play a part in educating our future community leaders.Please indicate Dietary Restrictions in the registration comments.
X-ALT-DESC;FMTTYPE=text/html:<!DOCTYPE html><html><head><title></title></head><body aria-disabled="false"><p>All members of the Duneland Chamber of Commerce are invited to attend a luncheon welcoming new teachers to the Duneland School Corporation. You can sponsor a teacher&#39\;s lunch and your own! You will be seated with your teacher and listed in the luncheon program.&nbsp\;</p><p>You may provide items containing your company logo to be included in the welcome bags which will be given to each teacher. Items must be received in the Chamber Office by <strong fr-original-style="" style="font-weight: 700\;">August 3</strong>.&nbsp\;</p><p>Your presence in welcoming our new teachers to the Duneland School Corporation is vital for a positive first introduction to the Duneland Community. Together we all play a part in educating our future community leaders.</p><p><strong fr-original-style="" style="font-weight: 700\;">Please indicate Dietary Restrictions in the registration comments.&nbsp\;</strong></p></body></html>
LOCATION:1001 Sand Creek Dr. S. Chesterton IN 46304
UID:e.4189.1390020
SEQUENCE:3
DTSTAMP:20260419T162636Z
URL:https://dunelandchamberofcommerce.growthzoneapp.com/event-calendar/Details/2026-new-teachers-reception-1641971?sourceTypeId=Hub
END:VEVENT
END:VCALENDAR
