BEGIN:VCALENDAR
VERSION:2.0
PRODID:-//ChamberMaster//Event Calendar 2.0//EN
METHOD:PUBLISH
X-PUBLISHED-TTL:P1H
REFRESH-INTERVAL:P1H
CALSCALE:GREGORIAN
BEGIN:VTIMEZONE
TZID:America/Chicago
BEGIN:DAYLIGHT
RRULE:FREQ=YEARLY;BYMONTH=3;BYDAY=2SU
DTSTART:20070101T000000
TZOFFSETFROM:-0600
TZOFFSETTO:-0500
TZNAME:Central Daylight Time
END:DAYLIGHT
BEGIN:STANDARD
RRULE:FREQ=YEARLY;BYMONTH=11;BYDAY=1SU
DTSTART:20070101T000000
TZOFFSETFROM:-0500
TZOFFSETTO:-0600
TZNAME:Central Standard Time
END:STANDARD
END:VTIMEZONE
BEGIN:VEVENT
DTSTART;TZID=America/Chicago:20260502T080000
DTEND;TZID=America/Chicago:20260502T140000
X-MICROSOFT-CDO-ALLDAYEVENT:FALSE
SUMMARY:5/2/26 Chesterton's European Market - OPENING DAY
DESCRIPTION:Join us at Chesterton's European Market every Saturday from the beginning of May through the end of October in historic downtown Chesterton. From 8:00 am to 2:00 pm\, visit us at Broadway and Third Street\, next to Thomas Centennial Park. We're located two miles south of the Indiana Dunes at Lake Michigan\, and our Market is easily accessible from Interstate 94 to exit 26A or via the 80/90 Toll Road to exit 31. Our European Market provides a strong tradition of quality shopping\, live entertainment and a festive community experience. Our artists\, chefs\, merchants and farmers travel to our Market from across Indiana\, Michigan and Illinois to offer visitors an extraordinary collection of products and services. Come visit us\, and delight in our artisan breads and pastries\, boutique creamery cheeses\, gourmet foods\, meats\, spices\, oils\, clothing\, accessories\, handcrafted jewelry and fresh-from-the-farm produce and flowers. Spend the day\, and enjoy live performances from the best of Duneland's professional musicians. Join us\, and support our commitment to nurturing healthy\, sustainable lifestyles within our Duneland community. We're looking forward to seeing you soon!
X-ALT-DESC;FMTTYPE=text/html:<!DOCTYPE html><html><head><title></title></head><body aria-disabled="false"><p>Join us at Chesterton&#39\;s European Market every Saturday from the beginning of May through the end of October in historic downtown Chesterton. From 8:00 am to 2:00 pm\, visit us at Broadway and Third Street\, next to Thomas Centennial Park. We&#39\;re located two miles south of the Indiana Dunes at Lake Michigan\, and our Market is easily accessible from Interstate 94 to exit 26A or via the 80/90 Toll Road to exit 31.&nbsp\;</p><p>Our European Market provides a strong tradition of quality shopping\, live entertainment and a festive community experience. Our artists\, chefs\, merchants and farmers travel to our Market from across Indiana\, Michigan and Illinois to offer visitors an extraordinary collection of products and services. Come visit us\, and delight in our artisan breads and pastries\, boutique creamery cheeses\, gourmet foods\, meats\, spices\, oils\, clothing\, accessories\, handcrafted jewelry and fresh-from-the-farm produce and flowers.&nbsp\;</p><p>Spend the day\, and enjoy live performances from the best of Duneland&#39\;s professional musicians. Join us\, and support our commitment to nurturing healthy\, sustainable lifestyles within our Duneland community. We&#39\;re looking forward to seeing you soon!</p></body></html>
LOCATION:220 Broadway Chesterton IN 46304-2258
UID:e.4189.1371346
SEQUENCE:3
DTSTAMP:20260419T164008Z
URL:https://dunelandchamberofcommerce.growthzoneapp.com/event-calendar/Details/5-2-26-chesterton-s-european-market-opening-day-1618526?sourceTypeId=Hub
END:VEVENT
END:VCALENDAR
