BEGIN:VCALENDAR
VERSION:2.0
PRODID:-//ChamberMaster//Event Calendar 2.0//EN
METHOD:PUBLISH
X-PUBLISHED-TTL:P1H
REFRESH-INTERVAL:P1H
CALSCALE:GREGORIAN
BEGIN:VTIMEZONE
TZID:America/Chicago
BEGIN:DAYLIGHT
RRULE:FREQ=YEARLY;BYMONTH=3;BYDAY=2SU
DTSTART:20070101T000000
TZOFFSETFROM:-0600
TZOFFSETTO:-0500
TZNAME:Central Daylight Time
END:DAYLIGHT
BEGIN:STANDARD
RRULE:FREQ=YEARLY;BYMONTH=11;BYDAY=1SU
DTSTART:20070101T000000
TZOFFSETFROM:-0500
TZOFFSETTO:-0600
TZNAME:Central Standard Time
END:STANDARD
END:VTIMEZONE
BEGIN:VEVENT
DTSTART;TZID=America/Chicago:20260619T080000
DTEND;TZID=America/Chicago:20260619T150000
X-MICROSOFT-CDO-ALLDAYEVENT:FALSE
SUMMARY:6th Annual Charity Golf Outing - Family Promise of Porter County
DESCRIPTION:We are excited to announce the 6th Annual Charity Golf Outing benefiting Family Promise of Porter County   and we would love for you to be part of this incredible day of golf\, community\, and impact. This event raises critical funds to support Family Promise of Porter County's programs that help families who are at risk of or experiencing homelessness. Proceeds help provide emergency shelter\, homelessness prevention assistance\, case management\, and supportive services that help families achieve long-term stability and independence.
X-ALT-DESC;FMTTYPE=text/html:<!DOCTYPE html><html><head><title></title></head><body aria-disabled="false"><p>We are excited to announce the 6th Annual Charity Golf Outing benefiting Family Promise of Porter County &mdash\; and we would love for you to be part of this incredible day of golf\, community\, and impact. This event raises critical funds to support Family Promise of Porter County&rsquo\;s programs that help families who are at risk of or experiencing homelessness. Proceeds help provide emergency shelter\, homelessness prevention assistance\, case management\, and supportive services that help families achieve long-term stability and independence. </p></body></html>
LOCATION:
UID:e.4189.1392545
SEQUENCE:3
DTSTAMP:20260419T164020Z
URL:https://dunelandchamberofcommerce.growthzoneapp.com/event-calendar/Details/6th-annual-charity-golf-outing-family-promise-of-porter-county-1645110?sourceTypeId=Hub
END:VEVENT
END:VCALENDAR
