BEGIN:VCALENDAR
VERSION:2.0
PRODID:-//ChamberMaster//Event Calendar 2.0//EN
METHOD:PUBLISH
X-PUBLISHED-TTL:P1H
REFRESH-INTERVAL:P1H
CALSCALE:GREGORIAN
BEGIN:VTIMEZONE
TZID:America/Chicago
BEGIN:DAYLIGHT
RRULE:FREQ=YEARLY;BYMONTH=3;BYDAY=2SU
DTSTART:20070101T000000
TZOFFSETFROM:-0600
TZOFFSETTO:-0500
TZNAME:Central Daylight Time
END:DAYLIGHT
BEGIN:STANDARD
RRULE:FREQ=YEARLY;BYMONTH=11;BYDAY=1SU
DTSTART:20070101T000000
TZOFFSETFROM:-0500
TZOFFSETTO:-0600
TZNAME:Central Standard Time
END:STANDARD
END:VTIMEZONE
BEGIN:VEVENT
DTSTART;TZID=America/Chicago:20260414T090000
DTEND;TZID=America/Chicago:20260414T110000
X-MICROSOFT-CDO-ALLDAYEVENT:FALSE
SUMMARY:April 2026 Candidate Forum
DESCRIPTION:Candidates will participate in a Candidate Forum hosted by the Duneland Chamber of Commerce on Tuesday\, April 14 to be held from 9:00 AM   10:30 AM at the Porter County Expo Center in Valparaiso. The event will offer guests the opportunity to meet and hear from the candidates representing the Duneland Communities and the state of Indiana. This event is free and open to the public\, but registration is required.\n\nCandidate Speaking Agenda\n\nUnited States Representative - District 1\nRepresentative Frank Mrvan (D)\nBarb Regnitz (R)\nJim Schenke (R)\nLaVetta Sparks-Wade (D)\n\nState Senator - District 4\nSenator Rodney Pol (D) - Erin Collins\, Chesterton Town Council President\, speaking on behalf\nNate Uldricks (R)\n\nState Representative - District 4\nTravis Gearhart (L)\nRyan Kominakis (D)\n\nState Representative - District 9\nChris Cleveland (R)\nRandy Novak (D)State Representative   District 10\nChuck Moseley (D)\nTed Uzelac (R)\n\nAuditor of State\nJohn Schick (L)\n\nPorter County Circuit Court Judge\nRebecca Buitendorp\n\nPorter Superior Court No. 1   Judge\nMichael Fish\n\nPorter Superior Court No. 4   Judge\nChristopher Buckley\nHeather McCarthy\n\nPorter County Commissioner   District 2\nMike Brickner (R)\nCyndi Dykes (R)\nJames "Jim" Kocal (D)\nKyle Nelson (D)\n\nPorter County Prosecutor\nAndrew Bennett (R)\nGary Germann (D)\nHarry Peterson (R)\n\nPorter County Sheriff\nJeffrey Balon (R)Porter County Council - District 2\nBrian Gulley (D)\n\nPorter County Council   District 3\nDawn Miller (R)\nJack Tipold (D)\n\nPorter County Council - District 4\nJulia Kocal (D)\nAndy Vasquez (R)\n\nPorter County Clerk\nBarbara Domer (D)\nJackie Haney (R)Porter County Assessor\nScott Kingan (D)\nSue Neff (R)\n\nPorter County Auditor\nKaren Martin (R)\n\nPorter County Recorder\nLeslie Nuss Bamesberger (D)\nJon Miller (R)\n\nPorter County Coroner\nBrian Bowles (R)\nJulie Smith (D)\n\nCenter Township Board\, Porter County\nMary Jo Nuland (D)\n\nCenter Township Trustee\, Porter County\nKevin Hagen (D)\nChuck Harris (R)\n\nJackson Township Trustee\, Porter County\nJulie Wagner (R)\n\n*This event will be photographed\, videotaped\, and shared with the Duneland community and various news outlets across NWI.
X-ALT-DESC;FMTTYPE=text/html:<!DOCTYPE html><html><head><title></title></head><body aria-disabled="false"><p>Candidates will participate in a Candidate Forum hosted by the Duneland Chamber of Commerce on Tuesday\, April 14 to be held from 9:00 AM &ndash\; 10:30 AM at the Porter County Expo Center in Valparaiso. The event will offer guests the opportunity to meet and hear from the candidates representing the Duneland Communities and the state of Indiana. This event is free and open to the public\, but registration is required.<br><br><strong fr-original-style="" style="font-weight: 700\;"><span style="font-size: 18px\;">Candidate Speaking Agenda</span></strong><br><br><u>United States Representative - District 1</u><br>Representative Frank Mrvan (D)<br>Barb Regnitz (R)<br>Jim Schenke (R)<br>LaVetta Sparks-Wade (D)<br><br><u>State Senator - District 4</u><br>Senator Rodney Pol (D) - Erin Collins\, Chesterton Town Council President\, speaking on behalf<br>Nate Uldricks (R)<br><br><u>State Representative - District 4</u><br>Travis Gearhart (L)<br>Ryan Kominakis (D)<br><br><u>State Representative - District 9</u><br>Chris Cleveland (R)<br>Randy Novak (D)</p><p><u>State Representative &ndash\; District 10</u><br>Chuck Moseley (D)<br>Ted Uzelac (R)<br><br><u>Auditor of State</u><br>John Schick (L)<br><u><br>Porter County Circuit Court Judge</u><br>Rebecca Buitendorp<br><u><br>Porter Superior Court No. 1 &ndash\; Judge</u><br>Michael Fish<br><u><br>Porter Superior Court No. 4 &ndash\; Judge</u><br>Christopher Buckley<br>Heather McCarthy<br><u><br>Porter County Commissioner &ndash\; District 2</u><br>Mike Brickner (R)<br>Cyndi Dykes (R)<br>James &quot\;Jim&quot\; Kocal (D)<br>Kyle Nelson (D)<br><u><br>Porter County Prosecutor</u><br>Andrew Bennett (R)<br>Gary Germann (D)<br>Harry Peterson (R)<br><u><br>Porter County Sheriff</u><br>Jeffrey Balon (R)</p><p><u>Porter County Council - District 2</u><br>Brian Gulley (D)<br><u><br>Porter County Council &ndash\; District 3</u><br>Dawn Miller (R)<br>Jack Tipold (D)<br><u><br>Porter County Council - District 4</u><br>Julia Kocal (D)<br>Andy Vasquez (R)<br><u><br>Porter County Clerk</u><br>Barbara Domer (D)<br>Jackie Haney (R)</p><p><u>Porter County Assessor</u><br>Scott Kingan (D)<br>Sue Neff (R)<br><br><u>Porter County Auditor</u><br>Karen Martin (R)<br><u><br>Porter County Recorder</u><br>Leslie Nuss Bamesberger (D)<br>Jon Miller (R)<br><u><br>Porter County Coroner</u><br>Brian Bowles (R)<br>Julie Smith (D)<br><br><u>Center Township Board\, Porter County</u><br>Mary Jo Nuland (D)<br><u><br>Center Township Trustee\, Porter County</u><br>Kevin Hagen (D)<br>Chuck Harris (R)<br><br><u>Jackson Township Trustee\, Porter County</u><br>Julie Wagner (R)<br><br><em>*This event will be photographed\, videotaped\, and shared with the Duneland community and various news outlets across NWI.&nbsp\;</em></p></body></html>
LOCATION:215 E. Division Rd. Valparaiso IN 46383
UID:e.4189.1344224
SEQUENCE:3
DTSTAMP:20260419T162630Z
URL:https://dunelandchamberofcommerce.growthzoneapp.com/event-calendar/Details/april-2026-candidate-forum-1579209?sourceTypeId=Hub
END:VEVENT
END:VCALENDAR
