BEGIN:VCALENDAR
VERSION:2.0
PRODID:-//ChamberMaster//Event Calendar 2.0//EN
METHOD:PUBLISH
X-PUBLISHED-TTL:P1H
REFRESH-INTERVAL:P1H
CALSCALE:GREGORIAN
BEGIN:VTIMEZONE
TZID:America/Chicago
BEGIN:DAYLIGHT
RRULE:FREQ=YEARLY;BYMONTH=3;BYDAY=2SU
DTSTART:20070101T000000
TZOFFSETFROM:-0600
TZOFFSETTO:-0500
TZNAME:Central Daylight Time
END:DAYLIGHT
BEGIN:STANDARD
RRULE:FREQ=YEARLY;BYMONTH=11;BYDAY=1SU
DTSTART:20070101T000000
TZOFFSETFROM:-0500
TZOFFSETTO:-0600
TZNAME:Central Standard Time
END:STANDARD
END:VTIMEZONE
BEGIN:VEVENT
DTSTART;TZID=America/Chicago:20260418T090000
DTEND;TZID=America/Chicago:20260418T130000
X-MICROSOFT-CDO-ALLDAYEVENT:FALSE
SUMMARY:Northwest Indiana EARTH DAY Celebration! FREE to the Public!
DESCRIPTION:Join us here in Northwest Indiana to celebrate Earth Day 2026!!\n\n\nThis event is FREE to the public and will feature an array of sustainably minded vendors\, local wildlife\, a magician\, interactive children's games\, birdhouse building\, a fix-it fair\, a reuse fair\, bike donation\, food\, giveaways\, and much more!!\n\n\nThis is our 18th year annual Earth Day celebration here in NWI and we are excited to announce that this year's nationwide theme is "Our Power\, Our Planet"!! Exploring the ways in which we as humans have the power to enact positive change for the planet's sustainability.\n\n\nFor more information\, go to our website under the Earth Day tab! (https://portercountyrecycling.org/earth-day/)\nAnd follow us on our FB and Instagram to be the first to know new information!!
X-ALT-DESC;FMTTYPE=text/html:Join us here in Northwest Indiana to celebrate Earth Day 2026!!\n\n\nThis event is FREE to the public and will feature an array of sustainably minded vendors\, local wildlife\, a magician\, interactive children's games\, birdhouse building\, a fix-it fair\, a reuse fair\, bike donation\, food\, giveaways\, and much more!!\n\n\nThis is our 18th year annual Earth Day celebration here in NWI and we are excited to announce that this year's nationwide theme is "Our Power\, Our Planet"!! Exploring the ways in which we as humans have the power to enact positive change for the planet's sustainability.\n\n\nFor more information\, go to our website under the Earth Day tab! (https://portercountyrecycling.org/earth-day/)\nAnd follow us on our FB and Instagram to be the first to know new information!!
LOCATION:215 E. Division Road Valparaiso IN 46383
UID:e.4189.1364294
SEQUENCE:3
DTSTAMP:20260419T164008Z
URL:https://dunelandchamberofcommerce.growthzoneapp.com/event-calendar/Details/northwest-indiana-earth-day-celebration-free-to-the-public-1609055?sourceTypeId=Hub
END:VEVENT
END:VCALENDAR
