BEGIN:VCALENDAR
VERSION:2.0
PRODID:-//ChamberMaster//Event Calendar 2.0//EN
METHOD:PUBLISH
X-PUBLISHED-TTL:P1H
REFRESH-INTERVAL:P1H
CALSCALE:GREGORIAN
BEGIN:VTIMEZONE
TZID:America/Chicago
BEGIN:DAYLIGHT
RRULE:FREQ=YEARLY;BYMONTH=3;BYDAY=2SU
DTSTART:20070101T000000
TZOFFSETFROM:-0600
TZOFFSETTO:-0500
TZNAME:Central Daylight Time
END:DAYLIGHT
BEGIN:STANDARD
RRULE:FREQ=YEARLY;BYMONTH=11;BYDAY=1SU
DTSTART:20070101T000000
TZOFFSETFROM:-0500
TZOFFSETTO:-0600
TZNAME:Central Standard Time
END:STANDARD
END:VTIMEZONE
BEGIN:VEVENT
DTSTART;TZID=America/Chicago:20261026T173000
DTEND;TZID=America/Chicago:20261026T190000
X-MICROSOFT-CDO-ALLDAYEVENT:FALSE
SUMMARY:October 2026 Business Bingo Night
DESCRIPTION:Join us for Business Bingo Night! This event offers free entry\, prizes\, snacks\, and ample networking opportunities. Sponsored by Avalon Springs\, it's the perfect occasion to bring a friend\, have some fun\, and make new connections. Theme: TBD
X-ALT-DESC;FMTTYPE=text/html:<!DOCTYPE html><html><head><title></title></head><body aria-disabled="false"><p style="box-sizing: border-box\; margin: 0px 0px 1rem\; color: rgb(85\, 85\, 85)\; font-family: Poppins\, sans-serif\; font-size: 16px\; font-style: normal\; font-variant-ligatures: normal\; font-variant-caps: normal\; font-weight: 400\; letter-spacing: normal\; orphans: 2\; text-align: start\; text-indent: 0px\; text-transform: none\; widows: 2\; word-spacing: 0px\; -webkit-text-stroke-width: 0px\; white-space: normal\; background-color: rgb(255\, 255\, 255)\; text-decoration-thickness: initial\; text-decoration-style: initial\; text-decoration-color: initial\;"><span style="color: rgb(0\, 0\, 0)\;">Join us for Business Bingo Night! This event offers free entry\, prizes\, snacks\, and ample networking opportunities. Sponsored by Avalon Springs\, it&#39\;s the perfect occasion to bring a friend\, have some fun\, and make new connections.&nbsp\;</span></p><p style="box-sizing: border-box\; margin: 0px 0px 1rem\; color: rgb(85\, 85\, 85)\; font-family: Poppins\, sans-serif\; font-size: 16px\; font-style: normal\; font-variant-ligatures: normal\; font-variant-caps: normal\; font-weight: 400\; letter-spacing: normal\; orphans: 2\; text-align: start\; text-indent: 0px\; text-transform: none\; widows: 2\; word-spacing: 0px\; -webkit-text-stroke-width: 0px\; white-space: normal\; background-color: rgb(255\, 255\, 255)\; text-decoration-thickness: initial\; text-decoration-style: initial\; text-decoration-color: initial\;"><span style="color: rgb(0\, 0\, 0)\;">Theme: TBD</span></p><p><br></p></body></html>
LOCATION:Chesterton IN 46304
UID:e.4189.1405270
SEQUENCE:3
DTSTAMP:20260419T162932Z
URL:https://dunelandchamberofcommerce.growthzoneapp.com/event-calendar/Details/october-2026-business-bingo-night-1660693?sourceTypeId=Hub
END:VEVENT
END:VCALENDAR
