BEGIN:VCALENDAR
VERSION:2.0
PRODID:-//ChamberMaster//Event Calendar 2.0//EN
METHOD:PUBLISH
X-PUBLISHED-TTL:P1H
REFRESH-INTERVAL:P1H
CALSCALE:GREGORIAN
BEGIN:VTIMEZONE
TZID:America/Chicago
BEGIN:DAYLIGHT
RRULE:FREQ=YEARLY;BYMONTH=3;BYDAY=2SU
DTSTART:20070101T000000
TZOFFSETFROM:-0600
TZOFFSETTO:-0500
TZNAME:Central Daylight Time
END:DAYLIGHT
BEGIN:STANDARD
RRULE:FREQ=YEARLY;BYMONTH=11;BYDAY=1SU
DTSTART:20070101T000000
TZOFFSETFROM:-0500
TZOFFSETTO:-0600
TZNAME:Central Standard Time
END:STANDARD
END:VTIMEZONE
BEGIN:VEVENT
DTSTART;TZID=America/Chicago:20260509T163000
DTEND;TZID=America/Chicago:20260509T220000
X-MICROSOFT-CDO-ALLDAYEVENT:FALSE
SUMMARY:Raindrops Rising Foundation 2026 Survivor Benefit Gala: Rise With The Tide
DESCRIPTION:Join us May 9th for a night of dancing\, amazing food\, and honoring survivors of sexual violence. We will have 4 amazing speakers\, a raffle of items donated by our amazing community\, and a special survivor tribute. Tickets on sale from now until May 2nd!
X-ALT-DESC;FMTTYPE=text/html:<!DOCTYPE html><html><head><title></title></head><body aria-disabled="false"><p>Join us May 9th for a night of dancing\, amazing food\, and honoring survivors of sexual violence. We will have 4 amazing speakers\, a raffle of items donated by our amazing community\, and a special survivor tribute. Tickets on sale from now until May 2nd!</p></body></html>
LOCATION:1001 Ridge Street LaPorte IN
UID:e.4189.1418659
SEQUENCE:3
DTSTAMP:20260419T163405Z
URL:https://dunelandchamberofcommerce.growthzoneapp.com/event-calendar/Details/raindrops-rising-foundation-2026-survivor-benefit-gala-rise-with-the-tide-1676834?sourceTypeId=Hub
END:VEVENT
END:VCALENDAR
