BEGIN:VCALENDAR
VERSION:2.0
PRODID:-//ChamberMaster//Event Calendar 2.0//EN
METHOD:PUBLISH
X-PUBLISHED-TTL:P1H
REFRESH-INTERVAL:P1H
CALSCALE:GREGORIAN
BEGIN:VTIMEZONE
TZID:America/Chicago
BEGIN:DAYLIGHT
RRULE:FREQ=YEARLY;BYMONTH=3;BYDAY=2SU
DTSTART:20070101T000000
TZOFFSETFROM:-0600
TZOFFSETTO:-0500
TZNAME:Central Daylight Time
END:DAYLIGHT
BEGIN:STANDARD
RRULE:FREQ=YEARLY;BYMONTH=11;BYDAY=1SU
DTSTART:20070101T000000
TZOFFSETFROM:-0500
TZOFFSETTO:-0600
TZNAME:Central Standard Time
END:STANDARD
END:VTIMEZONE
BEGIN:VEVENT
DTSTART;TZID=America/Chicago:20261128T080000
DTEND;TZID=America/Chicago:20261128T190000
X-MICROSOFT-CDO-ALLDAYEVENT:FALSE
SUMMARY:11/28/26 Hometown Holiday Celebration & Twilight Parade
DESCRIPTION:Join us for our Hometown Holiday celebration! Enjoy a holiday edition of Chesterton's European Market beginning at 8 AM. The Twilight Parade will step off at 5:15 PM\, followed by Visits with Santa in the Park right after the parade. While you're downtown\, be sure to shop small and support our incredible local businesses it's a perfect day to enjoy Chesterton for the holidays!
X-ALT-DESC;FMTTYPE=text/html:<!DOCTYPE html><html><head><title></title></head><body aria-disabled="false"><p>Join us for our Hometown Holiday celebration! Enjoy a holiday edition of Chesterton&#39\;s European Market beginning at 8 AM. The Twilight Parade will step off at 5:15 PM\, followed by Visits with Santa in the Park right after the parade. While you&#39\;re downtown\, be sure to shop small and support our incredible local businesses&mdash\;it&#39\;s a perfect day to enjoy Chesterton for the holidays!</p><p><br></p><p><br></p><p><br></p></body></html>
LOCATION:220 Broadway Chesterton IN 46304-2258
UID:e.4189.1352664
SEQUENCE:3
DTSTAMP:20260419T163117Z
URL:https://dunelandchamberofcommerce.growthzoneapp.com/event-calendar/Details/11-28-26-hometown-holiday-celebration-twilight-parade-1591078?sourceTypeId=Hub
END:VEVENT
END:VCALENDAR
