BEGIN:VCALENDAR
VERSION:2.0
PRODID:-//ChamberMaster//Event Calendar 2.0//EN
METHOD:PUBLISH
X-PUBLISHED-TTL:P1H
REFRESH-INTERVAL:P1H
CALSCALE:GREGORIAN
BEGIN:VTIMEZONE
TZID:America/Chicago
BEGIN:DAYLIGHT
RRULE:FREQ=YEARLY;BYMONTH=3;BYDAY=2SU
DTSTART:20070101T000000
TZOFFSETFROM:-0600
TZOFFSETTO:-0500
TZNAME:Central Daylight Time
END:DAYLIGHT
BEGIN:STANDARD
RRULE:FREQ=YEARLY;BYMONTH=11;BYDAY=1SU
DTSTART:20070101T000000
TZOFFSETFROM:-0500
TZOFFSETTO:-0600
TZNAME:Central Standard Time
END:STANDARD
END:VTIMEZONE
BEGIN:VEVENT
DTSTART;TZID=America/Chicago:20260506T103000
DTEND;TZID=America/Chicago:20260506T120000
X-MICROSOFT-CDO-ALLDAYEVENT:FALSE
SUMMARY:2026 Hatta Girl
DESCRIPTION:Celebrating Women And The Many Hats We Wear Join us for an engaging women's tea at Sand Creek Country Club featuring a panel of speakers who are ready to share their insights and experiences. Learn how they overcame obstacles in their journeys and how it shaped their success. Enjoy tea and finger sandwiches while being inspired by these amazing women. Wear your favorite hat to be entered into a raffle for a special prize.  \n\n2026 Panel of Speakers \nBonny Hildebrand\, Franciscan Health Michigan City/Duneland Chamber Board Chair\nMylese Tucker\, Nature's Cupboard\nMeg McCarel\, Meg's Glass/Duneland Education Foundation\nEsta Rosario\, Chesterton United Methodist Church
X-ALT-DESC;FMTTYPE=text/html:<!DOCTYPE html><html><head><title></title></head><body aria-disabled="false"><p><strong fr-original-style="" style="font-weight: 700\;"><em><span style="font-family: Arial\, Helvetica\, sans-serif\; font-size: 18px\;">Celebrating Women And The Many Hats We Wear&nbsp\;</span></em></strong></p><p><span style="font-family: Arial\,Helvetica\,sans-serif\;"><span style="font-size: 14px\;"><span style="color: rgb(0\, 0\, 0)\; font-style: normal\; font-variant-ligatures: normal\; font-variant-caps: normal\; font-weight: 400\; letter-spacing: normal\; orphans: 2\; text-align: left\; text-indent: 0px\; text-transform: none\; widows: 2\; word-spacing: 0px\; -webkit-text-stroke-width: 0px\; white-space: pre-wrap\; background-color: rgb(255\, 255\, 255)\; text-decoration-thickness: initial\; text-decoration-style: initial\; text-decoration-color: initial\; float: none\; display: inline !important\;">Join us for an engaging women&rsquo\;s tea at Sand Creek Country Club featuring a panel of speakers who are ready to share their insights and experiences. Learn how they overcame obstacles in their journeys and how it shaped their success. Enjoy tea and finger sandwiches while being inspired by these amazing women. Wear your favorite hat to be entered into a raffle for a special prize.&nbsp\;</span> <br><u><br></u></span><span style="font-size: 18px\;"><strong fr-original-style="" style="font-weight: 700\;"><u>2026 Panel of Speakers</u></strong></span><span style="font-size: 14px\;">&nbsp\;<br><span style="color: rgb(0\, 0\, 0)\;">Bonny Hildebrand\, <em>Franciscan Health Michigan City/Duneland Chamber Board Chair</em><br>Mylese Tucker\,<em>&nbsp\;Nature&#39\;s Cupboard</em><br>Meg McCarel\, <em>Meg&#39\;s Glass/Duneland Education Foundation</em><br>Esta Rosario\,&nbsp\;</span></span></span><span style="color: rgb(0\, 0\, 0)\;"><em><span style="font-size: 14px\; font-family: Arial\, Helvetica\, sans-serif\;">Chesterton United Methodist Church</span></em><br>     </span></p></body></html>
LOCATION:1001 Sand Creek Dr. S. Chesterton IN 46304
UID:e.4189.1344119
SEQUENCE:3
DTSTAMP:20260419T162630Z
URL:https://dunelandchamberofcommerce.growthzoneapp.com/event-calendar/Details/2026-hatta-girl-1579096?sourceTypeId=Hub
END:VEVENT
END:VCALENDAR
