BEGIN:VCALENDAR
VERSION:2.0
PRODID:-//ChamberMaster//Event Calendar 2.0//EN
METHOD:PUBLISH
X-PUBLISHED-TTL:P1H
REFRESH-INTERVAL:P1H
CALSCALE:GREGORIAN
BEGIN:VTIMEZONE
TZID:America/Chicago
BEGIN:DAYLIGHT
RRULE:FREQ=YEARLY;BYMONTH=3;BYDAY=2SU
DTSTART:20070101T000000
TZOFFSETFROM:-0600
TZOFFSETTO:-0500
TZNAME:Central Daylight Time
END:DAYLIGHT
BEGIN:STANDARD
RRULE:FREQ=YEARLY;BYMONTH=11;BYDAY=1SU
DTSTART:20070101T000000
TZOFFSETFROM:-0500
TZOFFSETTO:-0600
TZNAME:Central Standard Time
END:STANDARD
END:VTIMEZONE
BEGIN:VEVENT
DTSTART;TZID=America/Chicago:20260912T170000
DTEND;TZID=America/Chicago:20260912T200000
X-MICROSOFT-CDO-ALLDAYEVENT:FALSE
SUMMARY:2026 Vino al Fresco
DESCRIPTION:As the weather starts to turn cooler and nights become longer\, we're embracing the season with our 5th Annual Vino al Fresco! Enjoy wine tastings from a variety of local wineries.  Your ticket includes entry\, unlimited tastings\, live music and commemorative glass.   Check-In for the event will take place at the entrance to Thomas Centennial Park on Broadway.   Please bring a printed copy of your email confirmation or show it on your mobile device.   This is a standing wine tasting event that takes place in Thomas Centennial Park. Limited seating will be available in the park. Feel free to bring your own chairs or picnic blankets.   Food is available for purchase\, but you can bring your own.    All guests at this event must show valid government-issued identification at check-in to prove they are 21 or older.
X-ALT-DESC;FMTTYPE=text/html:<!DOCTYPE html><html><head><title></title></head><body aria-disabled="false"><p>As the weather starts to turn cooler and nights become longer\, we&rsquo\;re embracing the season with our 5th Annual Vino al Fresco! Enjoy wine tastings from a variety of local wineries. &nbsp\;</p><p>Your ticket includes entry\, unlimited tastings\, live music and commemorative glass.&nbsp\;</p><p>&bull\; Check-In for the event will take place at the entrance to Thomas Centennial Park on Broadway.&nbsp\;</p><p>&bull\; Please bring a printed copy of your email confirmation or show it on your mobile device.&nbsp\;</p><p>&bull\; This is a standing wine tasting event that takes place in Thomas Centennial Park. Limited seating will be available in the park. Feel free to bring your own chairs or picnic blankets.&nbsp\;</p><p>&bull\; Food is available for purchase\, but you can bring your own. &nbsp\;</p><p>&bull\; All guests at this event must show valid government-issued identification at check-in to prove they are 21 or older.</p></body></html>
LOCATION:105 S Calumet Chesterton IN 46304
UID:e.4189.1344141
SEQUENCE:3
DTSTAMP:20260419T162921Z
URL:https://dunelandchamberofcommerce.growthzoneapp.com/event-calendar/Details/2026-vino-al-fresco-1579118?sourceTypeId=Hub
END:VEVENT
END:VCALENDAR
