BEGIN:VCALENDAR
VERSION:2.0
PRODID:-//ChamberMaster//Event Calendar 2.0//EN
METHOD:PUBLISH
X-PUBLISHED-TTL:P1H
REFRESH-INTERVAL:P1H
CALSCALE:GREGORIAN
BEGIN:VTIMEZONE
TZID:America/Chicago
BEGIN:DAYLIGHT
RRULE:FREQ=YEARLY;BYMONTH=3;BYDAY=2SU
DTSTART:20070101T000000
TZOFFSETFROM:-0600
TZOFFSETTO:-0500
TZNAME:Central Daylight Time
END:DAYLIGHT
BEGIN:STANDARD
RRULE:FREQ=YEARLY;BYMONTH=11;BYDAY=1SU
DTSTART:20070101T000000
TZOFFSETFROM:-0500
TZOFFSETTO:-0600
TZNAME:Central Standard Time
END:STANDARD
END:VTIMEZONE
BEGIN:VEVENT
DTSTART;TZID=America/Chicago:20260411T100000
DTEND;TZID=America/Chicago:20260411T140000
X-MICROSOFT-CDO-ALLDAYEVENT:FALSE
SUMMARY:Free Family Art Day
DESCRIPTION:Join us for a CAC FREE Family Art Day presented in partnership with Three Moons Fiber Works. Families are invited to celebrate the art of fiber + textile. Participants can explore CAC's galleries showcasing work by the Duneland Weavers' Guild and youth artists by participants in CAC's classes and Youth Arts Outreach program. Visitors to the Family Art Day event will have the chance to watch live spinning demonstrations\, talk with fiber artists\, and learn how raw materials are transformed into woven and stitched works. Visitors will also have the opportunity create fiber works in our classrooms\, exploring techniques such as weaving\, embroidery\, felting and more. Family Art Days build on CAC's mission to create more accessible arts programming for the Duneland community and beyond. We invite you and your family to spend some time with us in our classrooms and gallery\, creating and learning about art! All are welcome! CAC Family Art Day is a free event and all ages are welcome. Program attendees can drop in any time during the event\, but registration is encouraged. CAC's Free Family Art Day is generously supported by Urschel Giving. Register at www.chestertonart.org/youth-and-teen-classes/p/family-art-day-gemfs
X-ALT-DESC;FMTTYPE=text/html:<!DOCTYPE html><html><head><title></title></head><body aria-disabled="false"><p>Join us for a CAC FREE Family Art Day presented in partnership with Three Moons Fiber Works. Families are invited to celebrate the art of fiber + textile. Participants can explore CAC&rsquo\;s galleries showcasing work by the Duneland Weavers&rsquo\; Guild and youth artists by participants in CAC&rsquo\;s classes and Youth Arts Outreach program.&nbsp\;</p><p>Visitors to the Family Art Day event will have the chance to watch live spinning demonstrations\, talk with fiber artists\, and learn how raw materials are transformed into woven and stitched works. Visitors will also have the opportunity create fiber works in our classrooms\, exploring techniques such as weaving\, embroidery\, felting and more.&nbsp\;</p><p>Family Art Days build on CAC&rsquo\;s mission to create more accessible arts programming for the Duneland community and beyond. We invite you and your family to spend some time with us in our classrooms and gallery\, creating and learning about art! All are welcome! CAC Family Art Day is a free event and all ages are welcome.&nbsp\;</p><p>Program attendees can drop in any time during the event\, but registration is encouraged. CAC&rsquo\;s Free Family Art Day is generously supported by Urschel Giving. Register at www.chestertonart.org/youth-and-teen-classes/p/family-art-day-gemfs</p></body></html>
LOCATION:115 S 4th St Chesterton IN 46304
UID:e.4189.1416413
SEQUENCE:3
DTSTAMP:20260419T164010Z
URL:https://dunelandchamberofcommerce.growthzoneapp.com/event-calendar/Details/free-family-art-day-1674180?sourceTypeId=Hub
END:VEVENT
END:VCALENDAR
