BEGIN:VCALENDAR
VERSION:2.0
PRODID:-//ChamberMaster//Event Calendar 2.0//EN
METHOD:PUBLISH
X-PUBLISHED-TTL:P1H
REFRESH-INTERVAL:P1H
CALSCALE:GREGORIAN
BEGIN:VTIMEZONE
TZID:America/Chicago
BEGIN:DAYLIGHT
RRULE:FREQ=YEARLY;BYMONTH=3;BYDAY=2SU
DTSTART:20070101T000000
TZOFFSETFROM:-0600
TZOFFSETTO:-0500
TZNAME:Central Daylight Time
END:DAYLIGHT
BEGIN:STANDARD
RRULE:FREQ=YEARLY;BYMONTH=11;BYDAY=1SU
DTSTART:20070101T000000
TZOFFSETFROM:-0500
TZOFFSETTO:-0600
TZNAME:Central Standard Time
END:STANDARD
END:VTIMEZONE
BEGIN:VEVENT
DTSTART;TZID=America/Chicago:20261007T090000
DTEND;TZID=America/Chicago:20261007T103000
X-MICROSOFT-CDO-ALLDAYEVENT:FALSE
SUMMARY:Oct 2026 Candidate Forum
DESCRIPTION:Candidates will participate in a Candidate Forum hosted by the Duneland Chamber of Commerce on Wednesday\, October 7 to be held from 9:00 AM – 10:30 AM at the Porter County Expo Center in Valparaiso. The event will offer guests the opportunity to meet and hear from the candidates representing the Duneland Communities and the state of Indiana. This event is free and open to the public\, but registration is required.
X-ALT-DESC;FMTTYPE=text/html:Candidates will participate in a Candidate Forum hosted by the Duneland Chamber of Commerce on Wednesday\, October 7 to be held from 9:00 AM – 10:30 AM at the Porter County Expo Center in Valparaiso. The event will offer guests the opportunity to meet and hear from the candidates representing the Duneland Communities and the state of Indiana. This event is free and open to the public\, but registration is required.
LOCATION:215 E. Division Rd. Valparaiso IN 46383
UID:e.4189.1344228
SEQUENCE:3
DTSTAMP:20260419T162630Z
URL:https://dunelandchamberofcommerce.growthzoneapp.com/event-calendar/Details/oct-2026-candidate-forum-1579213?sourceTypeId=Hub
END:VEVENT
END:VCALENDAR
