BEGIN:VCALENDAR
VERSION:2.0
PRODID:-//ChamberMaster//Event Calendar 2.0//EN
METHOD:PUBLISH
X-PUBLISHED-TTL:P1H
REFRESH-INTERVAL:P1H
CALSCALE:GREGORIAN
BEGIN:VTIMEZONE
TZID:America/Chicago
BEGIN:DAYLIGHT
RRULE:FREQ=YEARLY;BYMONTH=3;BYDAY=2SU
DTSTART:20070101T000000
TZOFFSETFROM:-0600
TZOFFSETTO:-0500
TZNAME:Central Daylight Time
END:DAYLIGHT
BEGIN:STANDARD
RRULE:FREQ=YEARLY;BYMONTH=11;BYDAY=1SU
DTSTART:20070101T000000
TZOFFSETFROM:-0500
TZOFFSETTO:-0600
TZNAME:Central Standard Time
END:STANDARD
END:VTIMEZONE
BEGIN:VEVENT
DTSTART;TZID=America/Chicago:20260402T163000
DTEND;TZID=America/Chicago:20260402T173000
X-MICROSOFT-CDO-ALLDAYEVENT:FALSE
SUMMARY:Ribbon Cutting: Chelle's Boutique
DESCRIPTION:Join the Duneland Chamber for a ribbon cutting celebrating the grand re-opening of Chelle's Boutique!\nStop by on Thursday\, April 2 at 4:30 PM at 209 Broadway in downtown Chesterton to help celebrate their refreshed space. Guests can enjoy refreshments\, giveaways\, and the chance to browse the latest styles.\nCommunity members\, friends\, and fellow Chamber members are all invited to attend and support this local business.
X-ALT-DESC;FMTTYPE=text/html:<!DOCTYPE html><html><head><title></title></head><body aria-disabled="false"><p>Join the Duneland Chamber for a ribbon cutting celebrating the grand re-opening of Chelle&rsquo\;s Boutique!<br>Stop by on Thursday\, April 2 at 4:30 PM at 209 Broadway in downtown Chesterton to help celebrate their refreshed space. Guests can enjoy refreshments\, giveaways\, and the chance to browse the latest styles.<br>Community members\, friends\, and fellow Chamber members are all invited to attend and support this local business.</p></body></html>
LOCATION:209 Broadway Chesterton IN 46304
UID:e.4189.1418541
SEQUENCE:3
DTSTAMP:20260419T162834Z
URL:https://dunelandchamberofcommerce.growthzoneapp.com/event-calendar/Details/ribbon-cutting-chelle-s-boutique-1676717?sourceTypeId=Hub
END:VEVENT
END:VCALENDAR
