BEGIN:VCALENDAR
VERSION:2.0
PRODID:-//ChamberMaster//Event Calendar 2.0//EN
METHOD:PUBLISH
X-PUBLISHED-TTL:P1H
REFRESH-INTERVAL:P1H
CALSCALE:GREGORIAN
BEGIN:VTIMEZONE
TZID:America/Chicago
BEGIN:DAYLIGHT
RRULE:FREQ=YEARLY;BYMONTH=3;BYDAY=2SU
DTSTART:20070101T000000
TZOFFSETFROM:-0600
TZOFFSETTO:-0500
TZNAME:Central Daylight Time
END:DAYLIGHT
BEGIN:STANDARD
RRULE:FREQ=YEARLY;BYMONTH=11;BYDAY=1SU
DTSTART:20070101T000000
TZOFFSETFROM:-0500
TZOFFSETTO:-0600
TZNAME:Central Standard Time
END:STANDARD
END:VTIMEZONE
BEGIN:VEVENT
DTSTART;TZID=America/Chicago:20260430T160000
DTEND;TZID=America/Chicago:20260430T170000
X-MICROSOFT-CDO-ALLDAYEVENT:FALSE
SUMMARY:Ribbon Cutting: Hard Rock Concrete Cutters
DESCRIPTION:Join us for a ribbon cutting celebrating the grand opening of Hard Rock Concrete Cutters' new location on Wednesday\, April 30 at 4:00 PM\, located at 312 Roberts Road in Chesterton. \n\nGuests are invited to tour the facility\, enjoy refreshments and food trucks\, and take part in giveaways. President Corrie B. Krula and the team look forward to welcoming the community for this exciting milestone. \n\nOpen House: 2:30-5:30 PM \nRibbon Cutting: 4:00 PM
X-ALT-DESC;FMTTYPE=text/html:<!DOCTYPE html><html><head><title></title></head><body aria-disabled="false"><p>Join us for a ribbon cutting celebrating the grand opening of Hard Rock Concrete Cutters&rsquo\; new location on Wednesday\, April 30 at 4:00 PM\, located at 312 Roberts Road in Chesterton. <br><br>Guests are invited to tour the facility\, enjoy refreshments and food trucks\, and take part in giveaways. President Corrie B. Krula and the team look forward to welcoming the community for this exciting milestone. <br><br>Open House: 2:30-5:30 PM <br>Ribbon Cutting: 4:00 PM</p></body></html>
LOCATION:312 Roberts Rd Chesterton IN 46304
UID:e.4189.1427945
SEQUENCE:3
DTSTAMP:20260419T162834Z
URL:https://dunelandchamberofcommerce.growthzoneapp.com/event-calendar/Details/ribbon-cutting-hard-rock-concrete-cutters-1689285?sourceTypeId=Hub
END:VEVENT
END:VCALENDAR
