BEGIN:VCALENDAR
VERSION:2.0
PRODID:-//ChamberMaster//Event Calendar 2.0//EN
METHOD:PUBLISH
X-PUBLISHED-TTL:P1H
REFRESH-INTERVAL:P1H
CALSCALE:GREGORIAN
BEGIN:VTIMEZONE
TZID:America/Chicago
BEGIN:DAYLIGHT
RRULE:FREQ=YEARLY;BYMONTH=3;BYDAY=2SU
DTSTART:20070101T000000
TZOFFSETFROM:-0600
TZOFFSETTO:-0500
TZNAME:Central Daylight Time
END:DAYLIGHT
BEGIN:STANDARD
RRULE:FREQ=YEARLY;BYMONTH=11;BYDAY=1SU
DTSTART:20070101T000000
TZOFFSETFROM:-0500
TZOFFSETTO:-0600
TZNAME:Central Standard Time
END:STANDARD
END:VTIMEZONE
BEGIN:VEVENT
DTSTART;TZID=America/Chicago:20260507T160000
DTEND;TZID=America/Chicago:20260507T170000
X-MICROSOFT-CDO-ALLDAYEVENT:FALSE
SUMMARY:Ribbon Cutting: Meg's Glass
DESCRIPTION:Join us for the Grand Opening and Ribbon Cutting of Meg's Glass on Wednesday\, May 7 at 4:00 PM\, located at 325 S. Calumet\, Suite 1. \n\nCelebrate this exciting new artistic business with refreshments\, browse unique finds perfect for Mother's Day\, and stick around after the ribbon cutting for a hands-on class. \n\nWe hope to see you there!
X-ALT-DESC;FMTTYPE=text/html:<!DOCTYPE html><html><head><title></title></head><body aria-disabled="false"><p>Join us for the Grand Opening and Ribbon Cutting of Meg&rsquo\;s Glass on Wednesday\, May 7 at 4:00 PM\, located at 325 S. Calumet\, Suite 1. <br><br>Celebrate this exciting new artistic business with refreshments\, browse unique finds perfect for Mother&rsquo\;s Day\, and stick around after the ribbon cutting for a hands-on class. <br><br>We hope to see you there!</p></body></html>
LOCATION:325 S Calumet Rd Suite 1 Chesterton IN 46304
UID:e.4189.1445789
SEQUENCE:3
DTSTAMP:20260419T162821Z
URL:https://dunelandchamberofcommerce.growthzoneapp.com/event-calendar/Details/ribbon-cutting-meg-s-glass-1712442?sourceTypeId=Hub
END:VEVENT
END:VCALENDAR
